BEGIN:VCALENDAR
VERSION:2.0
PRODID:-//Sabre//Sabre VObject 4.5.8//EN
CALSCALE:GREGORIAN
BEGIN:VEVENT
UID:sabre-vobject-e9681e20-a0d0-4869-a4bc-444e439c971f
DTSTAMP:20260421T083016Z
SUMMARY:Mobile Pflegeberatung
DTSTART;TZID=Europe/Berlin:20260506T090000
ORGANIZER;CN=Pflegestützpunkt im Kreis Rendsburg-Eckernförde:MAILTO:no-re
 ply@amt-huettener-berge.de
LOCATION:Alte Schule\, Holtsee
GEO:54.3988114;9.8547044
BEGIN:VALARM
TRIGGER;VALUE=DURATION:P1D
ACTION:DISPLAY
DESCRIPTION:Mobile Pflegeberatung
END:VALARM
END:VEVENT
END:VCALENDAR
