BEGIN:VCALENDAR
VERSION:2.0
PRODID:-//Sabre//Sabre VObject 4.5.8//EN
CALSCALE:GREGORIAN
BEGIN:VEVENT
UID:sabre-vobject-5569ea2a-8edc-4c47-8e66-c8b4047d7b39
DTSTAMP:20260421T081718Z
SUMMARY:Sitzung Gemeindevertretung Ahlefeld-Bistensee am 21.04.2026
DTSTART;TZID=Europe/Berlin:20260421T193000
ORGANIZER;CN=Gemeindevertretung Ahlefeld-Bistensee:MAILTO:no-reply@amt-huet
 tener-berge.de
LOCATION:Hotel Katerberg\, Hotel Katerberg\, Ahlefeld-Bistensee
GEO:54.4243264;9.6854009
BEGIN:VALARM
TRIGGER;VALUE=DURATION:P1D
ACTION:DISPLAY
DESCRIPTION:Sitzung Gemeindevertretung Ahlefeld-Bistensee am 21.04.2026
END:VALARM
END:VEVENT
END:VCALENDAR
